BEGIN:VCALENDAR
VERSION:2.0
PRODID:-// - ECPv6.15.20//NONSGML v1.0//EN
CALSCALE:GREGORIAN
METHOD:PUBLISH
X-ORIGINAL-URL:https://sullivandark.com
X-WR-CALDESC:Events for 
REFRESH-INTERVAL;VALUE=DURATION:PT1H
X-Robots-Tag:noindex
X-PUBLISHED-TTL:PT1H
BEGIN:VTIMEZONE
TZID:UTC
BEGIN:STANDARD
TZOFFSETFROM:+0000
TZOFFSETTO:+0000
TZNAME:UTC
DTSTART:20250101T000000
END:STANDARD
END:VTIMEZONE
BEGIN:VEVENT
DTSTART;TZID=UTC:20260626T140000
DTEND;TZID=UTC:20260627T210000
DTSTAMP:20260423T153656
CREATED:20260221T215316Z
LAST-MODIFIED:20260221T215507Z
UID:251-1782482400-1782594000@sullivandark.com
SUMMARY:Book Signing @ Haunted America Conference
DESCRIPTION:I will be attending the 2026 American Hauntings – Haunted America conference in Godfrey\, IL on the 26th and 27th of June. I will have all my books available to be signed as well as some really cool haunted objects and other paranormal/occult items. \nI plan to roll out a new paranormal series written with my husband Rick Ess while at the conference. Stop by my booth and see us! \n  \n 
URL:https://sullivandark.com/event/book-signing-haunted-america-conference/
LOCATION:Lewis & Clark Colege\, 5800 Godfrey Road\, Godfrey\, IL\, 62035\, United States
ATTACH;FMTTYPE=image/jpeg:https://sullivandark.com/wp-content/uploads/2026/02/unnamed.jpg
END:VEVENT
END:VCALENDAR